BEGIN:VCALENDAR
VERSION:2.0
PRODID:-//El Paso Aggie Moms&#039; Club - ECPv6.15.20//NONSGML v1.0//EN
CALSCALE:GREGORIAN
METHOD:PUBLISH
X-WR-CALNAME:El Paso Aggie Moms&#039; Club
X-ORIGINAL-URL:https://elpaso.aggiemoms.org
X-WR-CALDESC:Events for El Paso Aggie Moms&#039; Club
REFRESH-INTERVAL;VALUE=DURATION:PT1H
X-Robots-Tag:noindex
X-PUBLISHED-TTL:PT1H
BEGIN:VTIMEZONE
TZID:America/Chicago
BEGIN:DAYLIGHT
TZOFFSETFROM:-0600
TZOFFSETTO:-0500
TZNAME:CDT
DTSTART:20240310T080000
END:DAYLIGHT
BEGIN:STANDARD
TZOFFSETFROM:-0500
TZOFFSETTO:-0600
TZNAME:CST
DTSTART:20241103T070000
END:STANDARD
BEGIN:DAYLIGHT
TZOFFSETFROM:-0600
TZOFFSETTO:-0500
TZNAME:CDT
DTSTART:20250309T080000
END:DAYLIGHT
BEGIN:STANDARD
TZOFFSETFROM:-0500
TZOFFSETTO:-0600
TZNAME:CST
DTSTART:20251102T070000
END:STANDARD
BEGIN:DAYLIGHT
TZOFFSETFROM:-0600
TZOFFSETTO:-0500
TZNAME:CDT
DTSTART:20260308T080000
END:DAYLIGHT
BEGIN:STANDARD
TZOFFSETFROM:-0500
TZOFFSETTO:-0600
TZNAME:CST
DTSTART:20261101T070000
END:STANDARD
END:VTIMEZONE
BEGIN:VTIMEZONE
TZID:America/Denver
BEGIN:DAYLIGHT
TZOFFSETFROM:-0700
TZOFFSETTO:-0600
TZNAME:MDT
DTSTART:20180311T090000
END:DAYLIGHT
BEGIN:STANDARD
TZOFFSETFROM:-0600
TZOFFSETTO:-0700
TZNAME:MST
DTSTART:20181104T080000
END:STANDARD
BEGIN:DAYLIGHT
TZOFFSETFROM:-0700
TZOFFSETTO:-0600
TZNAME:MDT
DTSTART:20190310T090000
END:DAYLIGHT
BEGIN:STANDARD
TZOFFSETFROM:-0600
TZOFFSETTO:-0700
TZNAME:MST
DTSTART:20191103T080000
END:STANDARD
BEGIN:DAYLIGHT
TZOFFSETFROM:-0700
TZOFFSETTO:-0600
TZNAME:MDT
DTSTART:20200308T090000
END:DAYLIGHT
BEGIN:STANDARD
TZOFFSETFROM:-0600
TZOFFSETTO:-0700
TZNAME:MST
DTSTART:20201101T080000
END:STANDARD
BEGIN:DAYLIGHT
TZOFFSETFROM:-0700
TZOFFSETTO:-0600
TZNAME:MDT
DTSTART:20210314T090000
END:DAYLIGHT
BEGIN:STANDARD
TZOFFSETFROM:-0600
TZOFFSETTO:-0700
TZNAME:MST
DTSTART:20211107T080000
END:STANDARD
BEGIN:DAYLIGHT
TZOFFSETFROM:-0700
TZOFFSETTO:-0600
TZNAME:MDT
DTSTART:20220313T090000
END:DAYLIGHT
BEGIN:STANDARD
TZOFFSETFROM:-0600
TZOFFSETTO:-0700
TZNAME:MST
DTSTART:20221106T080000
END:STANDARD
BEGIN:DAYLIGHT
TZOFFSETFROM:-0700
TZOFFSETTO:-0600
TZNAME:MDT
DTSTART:20230312T090000
END:DAYLIGHT
BEGIN:STANDARD
TZOFFSETFROM:-0600
TZOFFSETTO:-0700
TZNAME:MST
DTSTART:20231105T080000
END:STANDARD
BEGIN:DAYLIGHT
TZOFFSETFROM:-0700
TZOFFSETTO:-0600
TZNAME:MDT
DTSTART:20240310T090000
END:DAYLIGHT
BEGIN:STANDARD
TZOFFSETFROM:-0600
TZOFFSETTO:-0700
TZNAME:MST
DTSTART:20241103T080000
END:STANDARD
BEGIN:DAYLIGHT
TZOFFSETFROM:-0700
TZOFFSETTO:-0600
TZNAME:MDT
DTSTART:20250309T090000
END:DAYLIGHT
BEGIN:STANDARD
TZOFFSETFROM:-0600
TZOFFSETTO:-0700
TZNAME:MST
DTSTART:20251102T080000
END:STANDARD
BEGIN:DAYLIGHT
TZOFFSETFROM:-0700
TZOFFSETTO:-0600
TZNAME:MDT
DTSTART:20260308T090000
END:DAYLIGHT
BEGIN:STANDARD
TZOFFSETFROM:-0600
TZOFFSETTO:-0700
TZNAME:MST
DTSTART:20261101T080000
END:STANDARD
END:VTIMEZONE
BEGIN:VTIMEZONE
TZID:UTC
BEGIN:STANDARD
TZOFFSETFROM:+0000
TZOFFSETTO:+0000
TZNAME:UTC
DTSTART:20160101T000000
END:STANDARD
END:VTIMEZONE
BEGIN:VEVENT
DTSTART;TZID=America/Chicago:20251208T100000
DTEND;TZID=America/Chicago:20251208T140000
DTSTAMP:20260425T163147
CREATED:20251030T221940Z
LAST-MODIFIED:20251030T221940Z
UID:685-1765188000-1765202400@elpaso.aggiemoms.org
SUMMARY:Fall Finals Goody Bag Distribution
DESCRIPTION:
URL:https://elpaso.aggiemoms.org/calendar/fall-finals-goody-bag-distribution/
LOCATION:Texas A & M MSC Building\, the MSC across from Kyle Field\, College Station
END:VEVENT
BEGIN:VEVENT
DTSTART;TZID=America/Denver:20251115T130000
DTEND;TZID=America/Denver:20251115T150000
DTSTAMP:20260425T163147
CREATED:20250709T163151Z
LAST-MODIFIED:20251030T220416Z
UID:615-1763211600-1763218800@elpaso.aggiemoms.org
SUMMARY:Friendsgiving
DESCRIPTION:Aggie Moms\, friends and family\, join us for a festive Friendsgiving celebration! \n 
URL:https://elpaso.aggiemoms.org/calendar/friendsgiving/
LOCATION:Texas A & M Research\, 1380 A & M Circle\, El Paso\, TX\, 79927\, United States
END:VEVENT
BEGIN:VEVENT
DTSTART;TZID=America/Denver:20251025T170000
DTEND;TZID=America/Denver:20251025T200000
DTSTAMP:20260425T163147
CREATED:20250709T162922Z
LAST-MODIFIED:20250916T051835Z
UID:609-1761411600-1761422400@elpaso.aggiemoms.org
SUMMARY:Julio's Fundraiser
DESCRIPTION:Click image or use QR code to purchase tickets
URL:https://elpaso.aggiemoms.org/calendar/julios-dinner/
LOCATION:Julio’s Mexican Food\, 8050 Gateway Blvd East\, El Paso\, TX\, 79907\, United States
END:VEVENT
BEGIN:VEVENT
DTSTART;TZID=America/Denver:20250920T100000
DTEND;TZID=America/Denver:20250920T120000
DTSTAMP:20260425T163147
CREATED:20250709T162520Z
LAST-MODIFIED:20250916T053300Z
UID:606-1758362400-1758369600@elpaso.aggiemoms.org
SUMMARY:Aggie Moms Brunch
DESCRIPTION:Click here to RSVP \nClick here to access Sign Up Sheet
URL:https://elpaso.aggiemoms.org/calendar/aggie-moms-brunch-2/
LOCATION:Texas A & M Research\, 1380 A & M Circle\, El Paso\, TX\, 79927\, United States
END:VEVENT
BEGIN:VEVENT
DTSTART;TZID=America/Denver:20250913T100000
DTEND;TZID=America/Denver:20250913T130000
DTSTAMP:20260425T163147
CREATED:20250718T183557Z
LAST-MODIFIED:20250820T213026Z
UID:642-1757757600-1757768400@elpaso.aggiemoms.org
SUMMARY:Fall 2025 Raffle and Viewing Party
DESCRIPTION:Howdy Moms\,  \nWhat a great opportunity for us to raise $$ for our Aggies! Our goal is to sell 250 + raffle tickets. All proceeds go towards El Paso Aggie scholarships!  Ticket holders will have 10 opportunities to win one of the following prizes: \n\n65 Inch TV (Valued at $409)\nPortable Grill (Valued at $277)\nMaroon Yeti Cooler- Holds 20 Cans (Valued at $263)\n2 Tickets to A&M vs Mississippi football game @A&M (Valued at $235)\nCornhole Set A&M logo (Valued at $141)\nGrill Set in Case A&M logo (Valued at $98)\nYeti 24 oz A&M logo (Valued at $78)\n2 Camp Chairs A&M logo (Valued at $75)\nCooler/ Caddy Bag A&M logo (Valued at $66)\nApron\, Towel\, Oven Mitt set A&M logo (Valued at $35)\n\nLive drawing will be held at Brew Sports Pub West\, 8041 N Mesa St\, on September 13 at the TAMU View Party.  Need not be present to win. Good luck and GIG’ EM! \n3 ways to purchase:\n \n\nClick Image above\nUse QR code in flyer\nLink to purchase tickets https://tailgate-raffle-2025.cheddarup.com
URL:https://elpaso.aggiemoms.org/calendar/fall-2025-raffle-and-viewing-party/
LOCATION:Brew Sports Pub\, 8041 N Mesa St\, El Paso\, TX\, 79932\, United States
END:VEVENT
BEGIN:VEVENT
DTSTART;TZID=America/Denver:20250715T180000
DTEND;TZID=America/Denver:20250715T200000
DTSTAMP:20260425T163147
CREATED:20250708T014342Z
LAST-MODIFIED:20250709T163720Z
UID:598-1752602400-1752609600@elpaso.aggiemoms.org
SUMMARY:EP Aggie Moms General Meeting
DESCRIPTION:
URL:https://elpaso.aggiemoms.org/calendar/ep-aggie-moms-general-meeting/
LOCATION:Taco Cabana\, 6345 Gateway West
END:VEVENT
BEGIN:VEVENT
DTSTART;TZID=America/Denver:20250622T150000
DTEND;TZID=America/Denver:20250622T180000
DTSTAMP:20260425T163147
CREATED:20250520T232139Z
LAST-MODIFIED:20250520T232139Z
UID:562-1750604400-1750615200@elpaso.aggiemoms.org
SUMMARY:Howdy Party
DESCRIPTION:Join us at the Howdy Party for Food and Fun.  Students\, parents\, friends and family are invited!  Learn about El Paso Aggie Moms.  Meet new and returning Aggies.  Scholarship presentation.    
URL:https://elpaso.aggiemoms.org/calendar/howdy-party-2/
LOCATION:Texas A & M Research\, 1380 A & M Circle\, El Paso\, TX\, 79927\, United States
END:VEVENT
BEGIN:VEVENT
DTSTART;TZID=America/Denver:20240914T140000
DTEND;TZID=America/Denver:20240914T170000
DTSTAMP:20260425T163147
CREATED:20240911T020100Z
LAST-MODIFIED:20240911T020100Z
UID:520-1726322400-1726333200@elpaso.aggiemoms.org
SUMMARY:Aggie Football Watch Parties will be joining the Texas A & M Club for all games
DESCRIPTION:
URL:https://elpaso.aggiemoms.org/calendar/aggie-football-watch-parties-will-be-joining-the-texas-a-m-club-for-all-games/
LOCATION:Brew\, 8041 N Mesa Dr\, El Paso\, TX\, 79932\, United States
END:VEVENT
BEGIN:VEVENT
DTSTART;TZID=America/Denver:20240914T120000
DTEND;TZID=America/Denver:20240914T140000
DTSTAMP:20260425T163147
CREATED:20240911T015554Z
LAST-MODIFIED:20240911T015554Z
UID:515-1726315200-1726322400@elpaso.aggiemoms.org
SUMMARY:Special Celebration for ROH Moms - 25 years
DESCRIPTION:
URL:https://elpaso.aggiemoms.org/calendar/special-celebration-for-roh-moms-25-years/
LOCATION:Great American Steakburger\, 701 S Mesa Hills\, El Paso\, TX\, 79912\, United States
END:VEVENT
BEGIN:VEVENT
DTSTART;TZID=America/Denver:20240914T090000
DTEND;TZID=America/Denver:20240914T120000
DTSTAMP:20260425T163147
CREATED:20240911T015028Z
LAST-MODIFIED:20240911T015028Z
UID:509-1726304400-1726315200@elpaso.aggiemoms.org
SUMMARY:Aggie Moms Brunch
DESCRIPTION:
URL:https://elpaso.aggiemoms.org/calendar/aggie-moms-brunch/
LOCATION:Texas A & M Research\, 1380 A & M Circle\, El Paso\, TX\, 79927\, United States
ATTACH;FMTTYPE=image/jpeg:https://elpaso.aggiemoms.org/wp-content/uploads/2024/09/F66C8C03-550F-4F48-BB34-AAAA8406BB2F.jpeg
END:VEVENT
BEGIN:VEVENT
DTSTART;TZID=America/Denver:20240630T153000
DTEND;TZID=America/Denver:20240630T183000
DTSTAMP:20260425T163147
CREATED:20240325T074029Z
LAST-MODIFIED:20240325T074029Z
UID:479-1719761400-1719772200@elpaso.aggiemoms.org
SUMMARY:HOWDY PARTY
DESCRIPTION:Join us at the HOWDY PARTY to introduce the newest Aggies that are headed to Aggieland.  Also\, current students will be in attendance to meet the new Aggies and answer any questions they may have about going to Texas A & M.  We will award scholarships that night. \n     \n 
URL:https://elpaso.aggiemoms.org/calendar/howdy-party/
LOCATION:Highway 28 Public Brewery\, 10092 Hwy 28\, Anthony\, NM\, 88021\, United States
END:VEVENT
BEGIN:VEVENT
DTSTART;TZID=America/Denver:20240421T170000
DTEND;TZID=America/Denver:20240421T200000
DTSTAMP:20260425T163147
CREATED:20240325T065734Z
LAST-MODIFIED:20250517T232833Z
UID:467-1713718800-1713729600@elpaso.aggiemoms.org
SUMMARY:Aggie Muster 4-21-2024
DESCRIPTION:Join the El Paso Texas A & M Club at their Annual Muster Dinner.  One of the oldest traditions of remembrance for Aggies worldwide.  Aggie’s come together on this day to honor and remember fallen Aggies. \nEl Paso will be blessed by an amazing Aggie Guest Speaker\, Mr. William Mahomes\, Chairman\, Texas A & M University Board of Regents. \nYou can mail check to Texas A & M Club\,  ATTN Hector Gutierrez\, Postal Annex 910 E Redd Road #111\, El Paso\, TX 79912.
URL:https://elpaso.aggiemoms.org/calendar/aggie-muster/
LOCATION:Starlight Event Center\, 6650 Continental Drive\, El Paso\, TX\, 79925\, United States
ORGANIZER;CN="Yvette Ramos":MAILTO:yramos1463@gmail.com
END:VEVENT
BEGIN:VEVENT
DTSTART;VALUE=DATE:20240412
DTEND;VALUE=DATE:20240414
DTSTAMP:20260425T163147
CREATED:20240325T074146Z
LAST-MODIFIED:20240325T074146Z
UID:474-1712880000-1713052799@elpaso.aggiemoms.org
SUMMARY:Parents Weekend April 12-14\, 2024
DESCRIPTION:
URL:https://elpaso.aggiemoms.org/calendar/parents-weekend-april-12-14-2024/
LOCATION:Texas A & M MSC Building\, the MSC across from Kyle Field\, College Station
END:VEVENT
BEGIN:VEVENT
DTSTART;TZID=America/Denver:20240404T173000
DTEND;TZID=America/Denver:20240404T183000
DTSTAMP:20260425T163147
CREATED:20240325T064628Z
LAST-MODIFIED:20240325T064629Z
UID:464-1712251800-1712255400@elpaso.aggiemoms.org
SUMMARY:Aggie Moms General Meeting - Pick up Goody bag Donations/Gift Cards for Boutique Raffle
DESCRIPTION:
URL:https://elpaso.aggiemoms.org/calendar/aggie-moms-general-meeting-pick-up-goody-bag-donations-gift-cards-for-boutique-raffle/
LOCATION:TX
ORGANIZER;CN="Pat RIos-Valdez":MAILTO:elpasoaggiemoms@aggiemoms.org
END:VEVENT
BEGIN:VEVENT
DTSTART;TZID=America/Denver:20190721T180000
DTEND;TZID=America/Denver:20190721T200000
DTSTAMP:20260425T163147
CREATED:20190712T221034Z
LAST-MODIFIED:20190712T221947Z
UID:350-1563732000-1563739200@elpaso.aggiemoms.org
SUMMARY:Annual HOWDY! Salad Supper Social
DESCRIPTION:
URL:https://elpaso.aggiemoms.org/calendar/annual-howdy-salad-supper-social/
LOCATION:The Odenborgs\, 6528 Vasco Way\, El Paso\, TX 79912
END:VEVENT
BEGIN:VEVENT
DTSTART;TZID=UTC:20170521T150000
DTEND;TZID=UTC:20170521T170000
DTSTAMP:20260425T163147
CREATED:20170109T080331Z
LAST-MODIFIED:20170109T080331Z
UID:179-1495378800-1495386000@elpaso.aggiemoms.org
SUMMARY:Ice Cream Social
DESCRIPTION:
URL:https://elpaso.aggiemoms.org/calendar/ice-cream-social/
LOCATION:TX
END:VEVENT
BEGIN:VEVENT
DTSTART;TZID=UTC:20170502T180000
DTEND;TZID=UTC:20170502T200000
DTSTAMP:20260425T163147
CREATED:20170109T080240Z
LAST-MODIFIED:20170109T080240Z
UID:177-1493748000-1493755200@elpaso.aggiemoms.org
SUMMARY:Club Meeting @ Greenery
DESCRIPTION:
URL:https://elpaso.aggiemoms.org/calendar/club-meeting-greenery/
LOCATION:TX
END:VEVENT
BEGIN:VEVENT
DTSTART;TZID=UTC:20170411T180000
DTEND;TZID=UTC:20170411T200000
DTSTAMP:20260425T163147
CREATED:20170109T080150Z
LAST-MODIFIED:20170109T080150Z
UID:175-1491933600-1491940800@elpaso.aggiemoms.org
SUMMARY:Club Meeting @ El Cuartito Azul
DESCRIPTION:
URL:https://elpaso.aggiemoms.org/calendar/club-meeting-el-cuartito-azul/
LOCATION:TX
END:VEVENT
BEGIN:VEVENT
DTSTART;TZID=UTC:20170406T070000
DTEND;TZID=UTC:20170408T200000
DTSTAMP:20260425T163147
CREATED:20170109T080112Z
LAST-MODIFIED:20170109T080112Z
UID:173-1491462000-1491681600@elpaso.aggiemoms.org
SUMMARY:Parents Weekend @ College Station
DESCRIPTION:
URL:https://elpaso.aggiemoms.org/calendar/parents-weekend-college-station/
LOCATION:TX
END:VEVENT
BEGIN:VEVENT
DTSTART;TZID=UTC:20170307T180000
DTEND;TZID=UTC:20170307T200000
DTSTAMP:20260425T163147
CREATED:20170109T080006Z
LAST-MODIFIED:20170109T080006Z
UID:171-1488909600-1488916800@elpaso.aggiemoms.org
SUMMARY:Club Meeting @ Ripe
DESCRIPTION:
URL:https://elpaso.aggiemoms.org/calendar/club-meeting-ripe/
LOCATION:TX
END:VEVENT
BEGIN:VEVENT
DTSTART;TZID=UTC:20170215T143000
DTEND;TZID=UTC:20170215T200000
DTSTAMP:20260425T163147
CREATED:20170207T065845Z
LAST-MODIFIED:20170207T065845Z
UID:268-1487169000-1487188800@elpaso.aggiemoms.org
SUMMARY:Glass Workshop
DESCRIPTION:@ Elvia Crossland
URL:https://elpaso.aggiemoms.org/calendar/glass-workshop/
LOCATION:TX
END:VEVENT
BEGIN:VEVENT
DTSTART;TZID=UTC:20170207T180000
DTEND;TZID=UTC:20170207T200000
DTSTAMP:20260425T163147
CREATED:20170109T075920Z
LAST-MODIFIED:20170111T220906Z
UID:169-1486490400-1486497600@elpaso.aggiemoms.org
SUMMARY:Club Meeting @ Fountains
DESCRIPTION:
URL:https://elpaso.aggiemoms.org/calendar/club-meeting-fountains/
LOCATION:Chuy’s
END:VEVENT
BEGIN:VEVENT
DTSTART;TZID=UTC:20170129T110000
DTEND;TZID=UTC:20170129T170000
DTSTAMP:20260425T163147
CREATED:20170122T235001Z
LAST-MODIFIED:20170123T000300Z
UID:240-1485687600-1485709200@elpaso.aggiemoms.org
SUMMARY:Glass Workshop @Mayte Abbott
DESCRIPTION:
URL:https://elpaso.aggiemoms.org/calendar/glass-workshop-mayte-abbott/
LOCATION:TX
END:VEVENT
BEGIN:VEVENT
DTSTART;TZID=UTC:20170117T150000
DTEND;TZID=UTC:20170117T200000
DTSTAMP:20260425T163147
CREATED:20170109T081123Z
LAST-MODIFIED:20170109T081219Z
UID:182-1484665200-1484683200@elpaso.aggiemoms.org
SUMMARY:Glass Workshop @ Laurel Robert's
DESCRIPTION:
URL:https://elpaso.aggiemoms.org/calendar/glass-workshop-laurels/
LOCATION:TX
END:VEVENT
END:VCALENDAR